BEGIN:VCALENDAR
VERSION:2.0
PRODID:-//ChamberMaster//Event Calendar 2.0//EN
METHOD:PUBLISH
X-PUBLISHED-TTL:P3D
REFRESH-INTERVAL:P3D
CALSCALE:GREGORIAN
BEGIN:VEVENT
DTSTART:20260422T200000Z
DTEND:20260422T220000Z
X-MICROSOFT-CDO-ALLDAYEVENT:FALSE
SUMMARY:Professional Happy Hour
DESCRIPTION:Building Partnerships and Networking. Special guest\, Elvis!
X-ALT-DESC;FMTTYPE=text/html:Building Partnerships and Networking. Special guest\, Elvis!
LOCATION:Atria Copeland-5317 New Copeland Rd.
UID:e.1648.16414
SEQUENCE:3
DTSTAMP:20260420T220330Z
URL:https://calendar.visittyler.com/events/details/professional-happy-hour-16414
END:VEVENT

END:VCALENDAR
